BEGIN:VCALENDAR
VERSION:2.0
PRODID:-//wp-events-plugin.com//7.2.3.1//EN
BEGIN:VEVENT
UID:12@safehaven4donkeys.org
DTSTART:20231111T100000Z
DTEND:20231111T130000Z
DTSTAMP:20230717T095401Z
URL:https://www.safehaven4donkeys.org/events/henfield-charities-fair-2/
SUMMARY:Henfield Charities Fair
DESCRIPTION:Lots of national\, as well as local\, charities have booked sta
 lls for this popular event\, selling Christmas gifts\, cards\, cakes and s
 avouries and much\, much more. There will be a bumper raffle and lots of g
 ames and tombolas. Refreshments\, including bacon butties\, will be served
  throughout the Fair. Christmas really does start here!  Come along and v
 isit Safe Haven's stall tombola and gifts stall.\n\nHenfield Hall\, Cooper
 s Way\, Henfield\, West Sussex\, BN5 9EQ
END:VEVENT
END:VCALENDAR