BEGIN:VCALENDAR
VERSION:2.0
PRODID:-//wp-events-plugin.com//7.2.3.1//EN
BEGIN:VEVENT
UID:14@safehaven4donkeys.org
DTSTART:20231125T110000Z
DTEND:20231125T160000Z
DTSTAMP:20231023T135334Z
URL:https://www.safehaven4donkeys.org/events/its-christmas-burgess-hill/
SUMMARY:It's Christmas Burgess Hill
DESCRIPTION:Charity stalls and Burgess Hill's Christmas lights switch-on pl
 us fun for all the family.
LOCATION:Church Walk\, Burgess Hill\, Church Walk\, Burgess Hill\, West Sus
 sex\, RH15 9AS\, West Sussex\, United Kingdom
X-APPLE-STRUCTURED-LOCATION;VALUE=URI;X-ADDRESS=Church Walk\, Burgess Hill\
 , West Sussex\, RH15 9AS\, West Sussex\, United Kingdom;X-APPLE-RADIUS=100
 ;X-TITLE=Church Walk\, Burgess Hill:geo:0,0
END:VEVENT
END:VCALENDAR