BEGIN:VCALENDAR
VERSION:2.0
PRODID:-//wp-events-plugin.com//7.2.3.1//EN
BEGIN:VEVENT
UID:11@safehaven4donkeys.org
DTSTART:20231005T200000Z
DTEND:20231005T200000Z
DTSTAMP:20230717T095202Z
URL:https://www.safehaven4donkeys.org/events/quiz-night/
SUMMARY:Quiz Night
DESCRIPTION:The Woolpack\, Howard Ave\, Burgess Hill\, West Sussex.  Thurs
 day 5th October 2023 8pm.  Teams of up to 6\, £5 per person.  This popu
 lar night usually sells out so reserve your table in advance on 01444 4701
 36 or wendy@safehaven4donkeys.org\n\n&nbsp\;\n\n&nbsp\;\n\n&nbsp\;\n\n&nbs
 p\;\n\n&nbsp\;\n\n&nbsp\;\n
ATTACH;FMTTYPE=image/jpeg:https://www.safehaven4donkeys.org/wp-content/upl
 oads/2022/09/Quiz-night-5-Oct.jpg
END:VEVENT
END:VCALENDAR