BEGIN:VCALENDAR
VERSION:2.0
PRODID:-//wp-events-plugin.com//7.2.3.1//EN
BEGIN:VEVENT
UID:18@safehaven4donkeys.org
DTSTART:20240824T120000Z
DTEND:20240824T170000Z
DTSTAMP:20240318T163411Z
URL:https://www.safehaven4donkeys.org/events/shrivenham/
SUMMARY:Shrivenham Summer Fete
DESCRIPTION:Village Green\, Shrivenham\, Oxfordshire\, Saturday 24th August
  2024 12 noon to 5pm.  Funfair\, go-karts\, Punch &amp\; Judy\,  coconut
  shy\, stalls and so much more.  Safe Haven supporters George and Rose to
  have a stall.
ATTACH;FMTTYPE=image/jpeg:https://www.safehaven4donkeys.org/wp-content/upl
 oads/2024/03/Shrivenham.jpg
END:VEVENT
END:VCALENDAR