BEGIN:VCALENDAR
VERSION:2.0
PRODID:-//wp-events-plugin.com//7.2.3.1//EN
BEGIN:VEVENT
UID:8@safehaven4donkeys.org
DTSTART:20230501T120000Z
DTEND:20230501T160000Z
DTSTAMP:20230303T103741Z
URL:https://www.safehaven4donkeys.org/events/stall-at-cuckoo-fayre-cuckfie
 ld/
SUMMARY:Stall at Cuckoo Fayre\, Cuckfield
DESCRIPTION:This longstanding and much-loved community event will take plac
 e on Bank Holiday Monday 1st May 2023 at the Cuckfield Recreation Ground b
 ehind the Queen’s Hall in Cuckfield\, West Sussex.\nThere will be the us
 ual selection of stalls promoting local organisations and businesses\, whe
 re you can buy interesting products or win prizes in some fun competitions
  and challenges. The ever-popular Dog Show\, organised by Mewes Vets\, wil
 l also return\, so now’s the time to start training your pooches. There 
 will also be live music\, kids’ entertainment\, food stalls and a bar to
  keep you and your young ones entertained\, watered and fed.\nThe event st
 arts at midday and runs all afternoon.\nSafe Haven's "Mid Sussex Friends o
 f the Donkeys" volunteer fundraising group will be having a stall - come a
 long and have a go on the tombola or buy your donkey-themed gifts!\n\n
ATTACH;FMTTYPE=image/jpeg:https://www.safehaven4donkeys.org/wp-content/upl
 oads/2023/03/Cuckoo-Fayre.jpg
LOCATION:Cuckfield Recreation Ground\, High Street\, Cuckfield\, Haywards H
 eath\, West Sussex\, United Kingdom
X-APPLE-STRUCTURED-LOCATION;VALUE=URI;X-ADDRESS=High Street\, Cuckfield\, H
 aywards Heath\, West Sussex\, United Kingdom;X-APPLE-RADIUS=100;X-TITLE=Cu
 ckfield Recreation Ground:geo:0,0
END:VEVENT
END:VCALENDAR