BEGIN:VCALENDAR
VERSION:2.0
PRODID:-//wp-events-plugin.com//7.2.3.1//EN
BEGIN:VEVENT
UID:7@safehaven4donkeys.org
DTSTART:20230625T100000Z
DTEND:20230625T160000Z
DTSTAMP:20230227T115812Z
URL:https://www.safehaven4donkeys.org/events/stall-at-rspca-brighton-summe
 r-fayre/
SUMMARY:Stall at RSPCA Brighton Summer Fayre
DESCRIPTION:Dog show\, games\, charity stalls\, fairground\, refreshments a
 nd more - Safe Haven's Mid Sussex Friends of the Donkeys volunteer fundrai
 sing group to have a stall.\n\n
ATTACH;FMTTYPE=image/jpeg:https://www.safehaven4donkeys.org/wp-content/upl
 oads/2023/02/RSPCA-2.jpg
LOCATION:Braypool Playing Fields\, Braypool Lane\, Patcham\, Brighton\, Eas
 t Sussex\, BN1 8ZH\, United Kingdom
X-APPLE-STRUCTURED-LOCATION;VALUE=URI;X-ADDRESS=Braypool Lane\, Patcham\, B
 righton\, East Sussex\, BN1 8ZH\, United Kingdom;X-APPLE-RADIUS=100;X-TITL
 E=Braypool Playing Fields:geo:0,0
END:VEVENT
END:VCALENDAR