BEGIN:VCALENDAR
VERSION:2.0
PRODID:-//wp-events-plugin.com//7.2.3.1//EN
BEGIN:VEVENT
UID:10@safehaven4donkeys.org
DTSTART:20230715T103000Z
DTEND:20230715T170000Z
DTSTAMP:20230324T145422Z
URL:https://www.safehaven4donkeys.org/events/stall-at-wivelsfield-village-
 day/
SUMMARY:Stall at Wivelsfield Village Day
DESCRIPTION:Stalls\, refreshments\, arena displays\, games\, dog show\, rid
 es and attractions\, live music and more.  Safe Haven's Mid Sussex Volunt
 eer Friends of the Donkeys fundraising group to have a stall.\n\n
ATTACH;FMTTYPE=image/jpeg:https://www.safehaven4donkeys.org/wp-content/upl
 oads/2023/03/Wivelsfield-Village-Day-2023.jpg
LOCATION:Wivelsfield\, Green Road\, Wivelsfield\, West Sussex\, United King
 dom
X-APPLE-STRUCTURED-LOCATION;VALUE=URI;X-ADDRESS=Green Road\, Wivelsfield\, 
 West Sussex\, United Kingdom;X-APPLE-RADIUS=100;X-TITLE=Wivelsfield:geo:0,
 0
END:VEVENT
END:VCALENDAR