BEGIN:VCALENDAR
VERSION:2.0
PRODID:-//wp-events-plugin.com//7.2.3.1//EN
BEGIN:VEVENT
UID:15@safehaven4donkeys.org
DTSTART:20240527T130000Z
DTEND:20240527T163000Z
DTSTAMP:20240124T164338Z
URL:https://www.safehaven4donkeys.org/events/yattendon/
SUMMARY:Yattendon & Frilsham Fete
DESCRIPTION:Yattendon Village Centre\, RG18 0UG.  Morris Men\, Punch and J
 udy show\, brass bands\, charity stalls\, fun dog show and much more.  Sa
 fe Haven supporters George and Rose to have a stall.
ATTACH;FMTTYPE=image/jpeg:https://www.safehaven4donkeys.org/wp-content/upl
 oads/2024/01/Yattendon.jpg
LOCATION:Yattendon\, Yattendon\, Thatcham\, Berkshire\, United Kingdom
X-APPLE-STRUCTURED-LOCATION;VALUE=URI;X-ADDRESS=Yattendon\, Thatcham\, Berk
 shire\, United Kingdom;X-APPLE-RADIUS=100;X-TITLE=Yattendon:geo:0,0
END:VEVENT
END:VCALENDAR